BEGIN:VCALENDAR
VERSION:2.0
PRODID:-//Sabre//Sabre VObject 4.5.8//EN
CALSCALE:GREGORIAN
BEGIN:VEVENT
UID:sabre-vobject-02dcb2ab-8ab1-4b46-bc42-f71e31ee897f
DTSTAMP:20260421T231405Z
SUMMARY:Rorate - Messe
DESCRIPTION:https://pfarreien-bistum-augsburg.df-preview.de/rorate-messe_id
 1635144
DTSTART;TZID=Europe/Berlin:20261218T063000
DURATION:PT30M
LOCATION:Augsburger Dom Hlgst. Herz Jesu\, Frauentorstraße 1\, 86152 Augsb
 urg-Dom
END:VEVENT
END:VCALENDAR
