BEGIN:VCALENDAR
VERSION:2.0
PRODID:-//Sabre//Sabre VObject 4.5.8//EN
CALSCALE:GREGORIAN
BEGIN:VEVENT
UID:sabre-vobject-1709c825-b8a1-4b6b-8148-45797ac57cb4
DTSTAMP:20260422T022907Z
SUMMARY:Laudes\, Konventmesse des Domkapitels
DESCRIPTION:https://pfarreien-bistum-augsburg.df-preview.de/laudes-konventm
 esse-des-domkapitels_id1635037
DTSTART;TZID=Europe/Berlin:20261117T070000
DURATION:PT30M
LOCATION:Augsburger Dom Hlgst. Herz Jesu\, Frauentorstraße 1\, 86152 Augsb
 urg-Dom
END:VEVENT
END:VCALENDAR
