BEGIN:VCALENDAR
VERSION:2.0
PRODID:-//Sabre//Sabre VObject 4.5.8//EN
CALSCALE:GREGORIAN
BEGIN:VEVENT
UID:sabre-vobject-a89c7cda-f130-401f-a53e-6162c0277299
DTSTAMP:20260422T145608Z
SUMMARY:Hl. Messe
DESCRIPTION:https://pfarreien-bistum-augsburg.df-preview.de/hl-messe_id1634
 857
DTSTART;TZID=Europe/Berlin:20271120T093000
DURATION:PT30M
LOCATION:Augsburger Dom Hlgst. Herz Jesu\, Frauentorstraße 1\, 86152 Augsb
 urg-Dom
END:VEVENT
END:VCALENDAR
