BEGIN:VCALENDAR
VERSION:2.0
PRODID:-//Sabre//Sabre VObject 4.5.8//EN
CALSCALE:GREGORIAN
BEGIN:VEVENT
UID:sabre-vobject-37e9a57a-0d32-4811-92db-ee2eaf6e16a3
DTSTAMP:20260421T034737Z
SUMMARY:Kapitelamt
DESCRIPTION:https://pfarreien-bistum-augsburg.df-preview.de/kapitelamt_id16
 34699
DTSTART;TZID=Europe/Berlin:20261213T090000
DURATION:PT30M
LOCATION:Augsburger Dom Hlgst. Herz Jesu\, Frauentorstraße 1\, 86152 Augsb
 urg-Dom
END:VEVENT
END:VCALENDAR
