BEGIN:VCALENDAR
VERSION:2.0
PRODID:-//Sabre//Sabre VObject 4.5.8//EN
CALSCALE:GREGORIAN
BEGIN:VEVENT
UID:sabre-vobject-8e701cc8-40ae-4da7-8b4b-869ed0d0e906
DTSTAMP:20260422T184505Z
SUMMARY:Pfarrgottesdienst
DESCRIPTION:https://pfarreien-bistum-augsburg.df-preview.de/pfarrgottesdien
 st_id1634590
DTSTART;TZID=Europe/Berlin:20271114T103000
DURATION:PT30M
LOCATION:Augsburger Dom Hlgst. Herz Jesu\, Frauentorstraße 1\, 86152 Augsb
 urg-Dom
END:VEVENT
END:VCALENDAR
