BEGIN:VCALENDAR
VERSION:2.0
PRODID:-//Sabre//Sabre VObject 4.5.8//EN
CALSCALE:GREGORIAN
BEGIN:VEVENT
UID:sabre-vobject-d9f41a51-3c34-4983-bc1b-dd1588369ee5
DTSTAMP:20260422T005635Z
SUMMARY:Martinsfeier mit Umzug
DESCRIPTION:https://pfarreien-bistum-augsburg.df-preview.de/martinsfeier-mi
 t-umzug_id1634580
DTSTART;TZID=Europe/Berlin:20271111T173000
DURATION:PT30M
LOCATION:Augsburger Dom Hlgst. Herz Jesu\, Frauentorstraße 1\, 86152 Augsb
 urg-Dom
END:VEVENT
END:VCALENDAR
