BEGIN:VCALENDAR
VERSION:2.0
PRODID:-//Sabre//Sabre VObject 4.5.8//EN
CALSCALE:GREGORIAN
BEGIN:VEVENT
UID:sabre-vobject-bc0d86c5-2df6-4eaf-9f01-87536b862fcc
DTSTAMP:20260424T025643Z
SUMMARY:Kapitelamt
DESCRIPTION:https://pfarreien-bistum-augsburg.df-preview.de/kapitelamt_id16
 34561
DTSTART;TZID=Europe/Berlin:20270926T090000
DURATION:PT30M
LOCATION:Augsburger Dom Hlgst. Herz Jesu\, Frauentorstraße 1\, 86152 Augsb
 urg-Dom
END:VEVENT
END:VCALENDAR
