BEGIN:VCALENDAR
VERSION:2.0
PRODID:-//Sabre//Sabre VObject 4.5.8//EN
CALSCALE:GREGORIAN
BEGIN:VEVENT
UID:sabre-vobject-2f48ba41-7cca-4973-889d-c0a6f247132e
DTSTAMP:20260420T090539Z
SUMMARY:Laudes\, Konventmesse des Domkapitels
DESCRIPTION:https://pfarreien-bistum-augsburg.df-preview.de/laudes-konventm
 esse-des-domkapitels_id1634330
DTSTART;TZID=Europe/Berlin:20261201T070000
DURATION:PT30M
LOCATION:Augsburger Dom Hlgst. Herz Jesu\, Frauentorstraße 1\, 86152 Augsb
 urg-Dom
END:VEVENT
END:VCALENDAR
