BEGIN:VCALENDAR
VERSION:2.0
PRODID:-//Sabre//Sabre VObject 4.5.8//EN
CALSCALE:GREGORIAN
BEGIN:VEVENT
UID:sabre-vobject-72cf3e45-7bc7-4fa4-8a54-2fa81df81551
DTSTAMP:20260423T143845Z
SUMMARY:Dompredigermesse
DESCRIPTION:https://pfarreien-bistum-augsburg.df-preview.de/dompredigermess
 e_id1634168
DTSTART;TZID=Europe/Berlin:20261101T113000
DURATION:PT30M
LOCATION:Augsburger Dom Hlgst. Herz Jesu\, Frauentorstraße 1\, 86152 Augsb
 urg-Dom
END:VEVENT
END:VCALENDAR
