BEGIN:VCALENDAR
VERSION:2.0
PRODID:-//Sabre//Sabre VObject 4.5.8//EN
CALSCALE:GREGORIAN
BEGIN:VEVENT
UID:sabre-vobject-b3412a8a-2e5e-49dd-8733-702c482a77c1
DTSTAMP:20260424T024122Z
SUMMARY:Laudes\, Konventmesse des Domkapitels
DESCRIPTION:https://pfarreien-bistum-augsburg.df-preview.de/laudes-konventm
 esse-des-domkapitels_id1634100
DTSTART;TZID=Europe/Berlin:20261027T070000
DURATION:PT30M
LOCATION:Augsburger Dom Hlgst. Herz Jesu\, Frauentorstraße 1\, 86152 Augsb
 urg-Dom
END:VEVENT
END:VCALENDAR
