BEGIN:VCALENDAR
VERSION:2.0
PRODID:-//Sabre//Sabre VObject 4.5.8//EN
CALSCALE:GREGORIAN
BEGIN:VEVENT
UID:sabre-vobject-8e3276b6-bd60-4f33-9778-9946841d3b36
DTSTAMP:20260424T053207Z
SUMMARY:Cantate Domino: Orgelmusik und gregorianischer Choral - Clamaverunt
  iusti\, et Dominus (Schola des Domchors)
DESCRIPTION:https://pfarreien-bistum-augsburg.df-preview.de/cantate-domino-
 orgelmusik-und-gregorianischer-choral-clamaverunt-iusti-et-dominus-schola-
 des-domchors_id1634092
DTSTART;TZID=Europe/Berlin:20261024T180000
DURATION:PT30M
LOCATION:Augsburger Dom Hlgst. Herz Jesu\, Frauentorstraße 1\, 86152 Augsb
 urg-Dom
END:VEVENT
END:VCALENDAR
