BEGIN:VCALENDAR
VERSION:2.0
PRODID:-//Sabre//Sabre VObject 4.5.8//EN
CALSCALE:GREGORIAN
BEGIN:VEVENT
UID:sabre-vobject-d1705c75-89ed-45ce-a26e-441f8e6f5260
DTSTAMP:20260424T205645Z
SUMMARY:Priesterdonnerstag
DESCRIPTION:https://pfarreien-bistum-augsburg.df-preview.de/priesterdonners
 tag_id1634058
DTSTART;TZID=Europe/Berlin:20270401T000000
DURATION:PT30M
LOCATION:Augsburger Dom Hlgst. Herz Jesu\, Frauentorstraße 1\, 86152 Augsb
 urg-Dom
END:VEVENT
END:VCALENDAR
