BEGIN:VCALENDAR
VERSION:2.0
PRODID:-//Sabre//Sabre VObject 4.5.8//EN
CALSCALE:GREGORIAN
BEGIN:VEVENT
UID:sabre-vobject-7b3ec481-2cda-403a-8bb3-eb342f08944e
DTSTAMP:20260424T150709Z
SUMMARY:Pontifikalamt und Pfarrgottesdienst (anschl. Speisenweihe)
DESCRIPTION:https://pfarreien-bistum-augsburg.df-preview.de/pontifikalamt-u
 nd-pfarrgottesdienst-anschl-speisenweihe_id1633996
DTSTART;TZID=Europe/Berlin:20270328T103000
DURATION:PT30M
LOCATION:Augsburger Dom Hlgst. Herz Jesu\, Frauentorstraße 1\, 86152 Augsb
 urg-Dom
END:VEVENT
END:VCALENDAR
