BEGIN:VCALENDAR
VERSION:2.0
PRODID:-//Sabre//Sabre VObject 4.5.8//EN
CALSCALE:GREGORIAN
BEGIN:VEVENT
UID:sabre-vobject-13bd10a0-1d0d-415a-858e-3a2eba3ca9c8
DTSTAMP:20260424T232617Z
SUMMARY:Laudes\, Hl. Messe nach Meinung des Domkapitels
DESCRIPTION:https://pfarreien-bistum-augsburg.df-preview.de/laudes-hl-messe
 -nach-meinung-des-domkapitels_id1633989
DTSTART;TZID=Europe/Berlin:20260831T070000
DURATION:PT30M
LOCATION:Augsburger Dom Hlgst. Herz Jesu\, Frauentorstraße 1\, 86152 Augsb
 urg-Dom
END:VEVENT
END:VCALENDAR
