BEGIN:VCALENDAR
VERSION:2.0
PRODID:-//Sabre//Sabre VObject 4.5.8//EN
CALSCALE:GREGORIAN
BEGIN:VEVENT
UID:sabre-vobject-573eb3a5-8b30-4027-9982-7c8ecd616172
DTSTAMP:20260424T044913Z
SUMMARY:Festgottesdienst zum Patrozinium (Herz-Jesu-Fest 3. FREITAG NACH PF
 INGSTEN)
DESCRIPTION:https://pfarreien-bistum-augsburg.df-preview.de/festgottesdiens
 t-zum-patrozinium-herz-jesu-fest-3-freitag-nach-pfingsten_id1633955
DTSTART;TZID=Europe/Berlin:20260524T180000
DURATION:PT30M
LOCATION:Augsburger Dom Hlgst. Herz Jesu\, Frauentorstraße 1\, 86152 Augsb
 urg-Dom
END:VEVENT
END:VCALENDAR
