BEGIN:VCALENDAR
VERSION:2.0
PRODID:-//Sabre//Sabre VObject 4.5.8//EN
CALSCALE:GREGORIAN
BEGIN:VEVENT
UID:sabre-vobject-57047b33-a1d2-4209-83aa-6cfc70d3db7d
DTSTAMP:20260425T003652Z
SUMMARY:Laudes\, Konventmesse des Domkapitels
DESCRIPTION:https://pfarreien-bistum-augsburg.df-preview.de/laudes-konventm
 esse-des-domkapitels_id1633823
DTSTART;TZID=Europe/Berlin:20261020T070000
DURATION:PT30M
LOCATION:Augsburger Dom Hlgst. Herz Jesu\, Frauentorstraße 1\, 86152 Augsb
 urg-Dom
END:VEVENT
END:VCALENDAR
