BEGIN:VCALENDAR
VERSION:2.0
PRODID:-//Sabre//Sabre VObject 4.5.8//EN
CALSCALE:GREGORIAN
BEGIN:VEVENT
UID:sabre-vobject-d93a25f9-8b98-4296-93d7-7caddea6dff6
DTSTAMP:20260424T175754Z
SUMMARY:Auferstehungsfeier für Kinder
DESCRIPTION:https://pfarreien-bistum-augsburg.df-preview.de/auferstehungsfe
 ier-fuer-kinder_id1633790
DTSTART;TZID=Europe/Berlin:20270327T190000
DURATION:PT30M
LOCATION:Augsburger Dom Hlgst. Herz Jesu\, Frauentorstraße 1\, 86152 Augsb
 urg-Dom
END:VEVENT
END:VCALENDAR
