BEGIN:VCALENDAR
VERSION:2.0
PRODID:-//Sabre//Sabre VObject 4.5.8//EN
CALSCALE:GREGORIAN
BEGIN:VEVENT
UID:sabre-vobject-a6391a4b-ec8e-4425-adf7-20475100dd55
DTSTAMP:20260424T184223Z
SUMMARY:Hl. Messe entfällt am Karsamstag
DESCRIPTION:https://pfarreien-bistum-augsburg.df-preview.de/hl-messe-entfae
 llt-am-karsamstag_id1633785
DTSTART;TZID=Europe/Berlin:20270327T093000
DURATION:PT30M
LOCATION:Augsburger Dom Hlgst. Herz Jesu\, Frauentorstraße 1\, 86152 Augsb
 urg-Dom
END:VEVENT
END:VCALENDAR
