BEGIN:VCALENDAR
VERSION:2.0
PRODID:-//Sabre//Sabre VObject 4.5.8//EN
CALSCALE:GREGORIAN
BEGIN:VEVENT
UID:sabre-vobject-d486c0f6-5137-4562-a2b6-dbf53720eb32
DTSTAMP:20260424T212224Z
SUMMARY:Hl. Messe entfällt am Karsamstag
DESCRIPTION:https://pfarreien-bistum-augsburg.df-preview.de/hl-messe-entfae
 llt-am-karsamstag_id1633781
DTSTART;TZID=Europe/Berlin:20270327T070000
DURATION:PT30M
LOCATION:Augsburger Dom Hlgst. Herz Jesu\, Frauentorstraße 1\, 86152 Augsb
 urg-Dom
END:VEVENT
END:VCALENDAR
