BEGIN:VCALENDAR
VERSION:2.0
PRODID:-//Sabre//Sabre VObject 4.5.8//EN
CALSCALE:GREGORIAN
BEGIN:VEVENT
UID:sabre-vobject-0ee2558c-e28f-4467-b948-adef6ffbe176
DTSTAMP:20260420T085522Z
SUMMARY:Cantate Domino: Orgelmusik und gregorianischer Choral
DESCRIPTION:https://pfarreien-bistum-augsburg.df-preview.de/cantate-domino-
 orgelmusik-und-gregorianischer-choral_id1633775
DTSTART;TZID=Europe/Berlin:20270313T180000
DURATION:PT30M
LOCATION:Augsburger Dom Hlgst. Herz Jesu\, Frauentorstraße 1\, 86152 Augsb
 urg-Dom
END:VEVENT
END:VCALENDAR
