BEGIN:VCALENDAR
VERSION:2.0
PRODID:-//Sabre//Sabre VObject 4.5.8//EN
CALSCALE:GREGORIAN
BEGIN:VEVENT
UID:sabre-vobject-5956b9c7-6363-44e3-8786-8ed43eab2793
DTSTAMP:20260424T015606Z
SUMMARY:Cantate Domino: Orgelmusik und gregorianischer Choral - Spiritus Do
 mini replevit orbem terrarum (Schola des Domchors)
DESCRIPTION:https://pfarreien-bistum-augsburg.df-preview.de/cantate-domino-
 orgelmusik-und-gregorianischer-choral-spiritus-domini-replevit-orbem-terra
 rum-schola-des-domchors_id1633759
DTSTART;TZID=Europe/Berlin:20260523T180000
DURATION:PT30M
LOCATION:Augsburger Dom Hlgst. Herz Jesu\, Frauentorstraße 1\, 86152 Augsb
 urg-Dom
END:VEVENT
END:VCALENDAR
