BEGIN:VCALENDAR
VERSION:2.0
PRODID:-//Sabre//Sabre VObject 4.5.8//EN
CALSCALE:GREGORIAN
BEGIN:VEVENT
UID:sabre-vobject-acb0f248-5e61-4cdd-9e14-4e1ea276099d
DTSTAMP:20260424T135516Z
SUMMARY:Trauermette (Lesehore und Laudes)
DESCRIPTION:https://pfarreien-bistum-augsburg.df-preview.de/trauermette-les
 ehore-und-laudes_id1633734
DTSTART;TZID=Europe/Berlin:20270326T080000
DURATION:PT30M
LOCATION:Augsburger Dom Hlgst. Herz Jesu\, Frauentorstraße 1\, 86152 Augsb
 urg-Dom
END:VEVENT
END:VCALENDAR
