BEGIN:VCALENDAR
VERSION:2.0
PRODID:-//Sabre//Sabre VObject 4.5.8//EN
CALSCALE:GREGORIAN
BEGIN:VEVENT
UID:sabre-vobject-256b7beb-0d32-421f-9128-72cd8305788b
DTSTAMP:20260422T145616Z
SUMMARY:Dompredigermesse
DESCRIPTION:https://pfarreien-bistum-augsburg.df-preview.de/dompredigermess
 e_id1633692
DTSTART;TZID=Europe/Berlin:20270404T113000
DURATION:PT30M
LOCATION:Augsburger Dom Hlgst. Herz Jesu\, Frauentorstraße 1\, 86152 Augsb
 urg-Dom
END:VEVENT
END:VCALENDAR
