BEGIN:VCALENDAR
VERSION:2.0
PRODID:-//Sabre//Sabre VObject 4.5.8//EN
CALSCALE:GREGORIAN
BEGIN:VEVENT
UID:sabre-vobject-cb82e3ee-0fc3-446d-ba4d-f98393584360
DTSTAMP:20260422T200321Z
SUMMARY:Feierlicher Gottesdienst zur Erstkommunion
DESCRIPTION:https://pfarreien-bistum-augsburg.df-preview.de/feierlicher-got
 tesdienst-zur-erstkommunion_id1633690
DTSTART;TZID=Europe/Berlin:20270404T093000
DURATION:PT30M
LOCATION:Augsburger Dom Hlgst. Herz Jesu\, Frauentorstraße 1\, 86152 Augsb
 urg-Dom
END:VEVENT
END:VCALENDAR
