BEGIN:VCALENDAR
VERSION:2.0
PRODID:-//Sabre//Sabre VObject 4.5.8//EN
CALSCALE:GREGORIAN
BEGIN:VEVENT
UID:sabre-vobject-94aa7b74-8a80-4e49-8f32-a2771acc4a47
DTSTAMP:20260422T052851Z
SUMMARY:Maiandacht in St. Gallus
DESCRIPTION:https://pfarreien-bistum-augsburg.df-preview.de/maiandacht-in-s
 t-gallus_id1633533
DTSTART;TZID=Europe/Berlin:20260505T190000
DURATION:PT30M
LOCATION:Augsburger Dom Hlgst. Herz Jesu\, Frauentorstraße 1\, 86152 Augsb
 urg-Dom
END:VEVENT
END:VCALENDAR
