BEGIN:VCALENDAR
VERSION:2.0
PRODID:-//Sabre//Sabre VObject 4.5.8//EN
CALSCALE:GREGORIAN
BEGIN:VEVENT
UID:sabre-vobject-900f0260-b404-42b7-8974-72e3b02746ef
DTSTAMP:20260419T230954Z
SUMMARY:Pontifikalamt und Pfarrgottesdienst
DESCRIPTION:https://pfarreien-bistum-augsburg.df-preview.de/pontifikalamt-u
 nd-pfarrgottesdienst_id1633522
DTSTART;TZID=Europe/Berlin:20270517T103000
DURATION:PT30M
LOCATION:Augsburger Dom Hlgst. Herz Jesu\, Frauentorstraße 1\, 86152 Augsb
 urg-Dom
END:VEVENT
END:VCALENDAR
