BEGIN:VCALENDAR
VERSION:2.0
PRODID:-//Sabre//Sabre VObject 4.5.8//EN
CALSCALE:GREGORIAN
BEGIN:VEVENT
UID:sabre-vobject-3d8265cc-cb14-4a81-b55c-6874d8194a0f
DTSTAMP:20260425T030239Z
SUMMARY:Laudes\, Konventmesse des Domkapitels
DESCRIPTION:https://pfarreien-bistum-augsburg.df-preview.de/laudes-konventm
 esse-des-domkapitels_id1633493
DTSTART;TZID=Europe/Berlin:20260616T070000
DURATION:PT30M
LOCATION:Augsburger Dom Hlgst. Herz Jesu\, Frauentorstraße 1\, 86152 Augsb
 urg-Dom
END:VEVENT
END:VCALENDAR
