BEGIN:VCALENDAR
VERSION:2.0
PRODID:-//Sabre//Sabre VObject 4.5.8//EN
CALSCALE:GREGORIAN
BEGIN:VEVENT
UID:sabre-vobject-0e3e22db-fca2-482b-a111-490c197a6d3d
DTSTAMP:20260422T072610Z
SUMMARY:Pontifikalamt und Pfarrgottesdienst
DESCRIPTION:https://pfarreien-bistum-augsburg.df-preview.de/pontifikalamt-u
 nd-pfarrgottesdienst_id1633388
DTSTART;TZID=Europe/Berlin:20260514T103000
DURATION:PT30M
LOCATION:Augsburger Dom Hlgst. Herz Jesu\, Frauentorstraße 1\, 86152 Augsb
 urg-Dom
END:VEVENT
END:VCALENDAR
