BEGIN:VCALENDAR
VERSION:2.0
PRODID:-//Sabre//Sabre VObject 4.5.8//EN
CALSCALE:GREGORIAN
BEGIN:VEVENT
UID:sabre-vobject-c89ad1f4-c566-4a5b-91db-f59cda8f983a
DTSTAMP:20260423T142820Z
SUMMARY:Pontifikalamt und Pfarrgottesdienst
DESCRIPTION:https://pfarreien-bistum-augsburg.df-preview.de/pontifikalamt-u
 nd-pfarrgottesdienst_id1633356
DTSTART;TZID=Europe/Berlin:20261226T103000
DURATION:PT30M
LOCATION:Augsburger Dom Hlgst. Herz Jesu\, Frauentorstraße 1\, 86152 Augsb
 urg-Dom
END:VEVENT
END:VCALENDAR
