BEGIN:VCALENDAR
VERSION:2.0
PRODID:-//Sabre//Sabre VObject 4.5.8//EN
CALSCALE:GREGORIAN
BEGIN:VEVENT
UID:sabre-vobject-0eca2c87-1512-403d-a07d-07e675e86d54
DTSTAMP:20260420T133208Z
SUMMARY:Aussetzung des Allerheiligsten und Anbetung
DESCRIPTION:https://pfarreien-bistum-augsburg.df-preview.de/aussetzung-des-
 allerheiligsten-und-anbetung_id1633355
DTSTART;TZID=Europe/Berlin:20270101T140000
DURATION:PT30M
LOCATION:Augsburger Dom Hlgst. Herz Jesu\, Frauentorstraße 1\, 86152 Augsb
 urg-Dom
END:VEVENT
END:VCALENDAR
