BEGIN:VCALENDAR
VERSION:2.0
PRODID:-//Sabre//Sabre VObject 4.5.8//EN
CALSCALE:GREGORIAN
BEGIN:VEVENT
UID:sabre-vobject-d9011da3-f4c9-4fcc-867f-c7bd05887bfb
DTSTAMP:20260423T094949Z
SUMMARY:Hirtenamt
DESCRIPTION:https://pfarreien-bistum-augsburg.df-preview.de/hirtenamt_id163
 3352
DTSTART;TZID=Europe/Berlin:20261226T073000
DURATION:PT30M
LOCATION:Augsburger Dom Hlgst. Herz Jesu\, Frauentorstraße 1\, 86152 Augsb
 urg-Dom
END:VEVENT
END:VCALENDAR
