BEGIN:VCALENDAR
VERSION:2.0
PRODID:-//Sabre//Sabre VObject 4.5.8//EN
CALSCALE:GREGORIAN
BEGIN:VEVENT
UID:sabre-vobject-380cfbb7-583b-4e4d-90fc-2b2c959ff975
DTSTAMP:20260423T043618Z
SUMMARY:Pontifikalamt und Pfarrgottesdienst
DESCRIPTION:https://pfarreien-bistum-augsburg.df-preview.de/pontifikalamt-u
 nd-pfarrgottesdienst_id1633348
DTSTART;TZID=Europe/Berlin:20261225T103000
DURATION:PT30M
LOCATION:Augsburger Dom Hlgst. Herz Jesu\, Frauentorstraße 1\, 86152 Augsb
 urg-Dom
END:VEVENT
END:VCALENDAR
