BEGIN:VCALENDAR
VERSION:2.0
PRODID:-//Sabre//Sabre VObject 4.5.8//EN
CALSCALE:GREGORIAN
BEGIN:VEVENT
UID:sabre-vobject-5554f9e4-580d-4c89-aac6-4bbbc0f402ea
DTSTAMP:20260424T033511Z
SUMMARY:Hl. Messe um geistliche Berufe
DESCRIPTION:https://pfarreien-bistum-augsburg.df-preview.de/hl-messe-um-gei
 stliche-berufe_id1633313
DTSTART;TZID=Europe/Berlin:20261105T093000
DURATION:PT30M
LOCATION:Augsburger Dom Hlgst. Herz Jesu\, Frauentorstraße 1\, 86152 Augsb
 urg-Dom
END:VEVENT
END:VCALENDAR
