BEGIN:VCALENDAR
VERSION:2.0
PRODID:-//Sabre//Sabre VObject 4.5.8//EN
CALSCALE:GREGORIAN
BEGIN:VEVENT
UID:sabre-vobject-65892b45-b33f-44d4-b918-1f3b865c2635
DTSTAMP:20260423T213435Z
SUMMARY:Priesterdonnerstag
DESCRIPTION:https://pfarreien-bistum-augsburg.df-preview.de/priesterdonners
 tag_id1633311
DTSTART;TZID=Europe/Berlin:20261105T000000
DURATION:PT30M
LOCATION:Augsburger Dom Hlgst. Herz Jesu\, Frauentorstraße 1\, 86152 Augsb
 urg-Dom
END:VEVENT
END:VCALENDAR
