BEGIN:VCALENDAR
VERSION:2.0
PRODID:-//Sabre//Sabre VObject 4.5.8//EN
CALSCALE:GREGORIAN
BEGIN:VEVENT
UID:sabre-vobject-7c9e23ae-a1eb-4743-afb4-bb664689fe99
DTSTAMP:20260423T122108Z
SUMMARY:Laudes\, Hl. Messe  m. Totengedenken f. die verst. (Weih-)Bischöfe
 \, Domkapitulare und Domvikare\n(ausgenomm. Allerseelen)
DESCRIPTION:https://pfarreien-bistum-augsburg.df-preview.de/laudes-hl-messe
 -m-totengedenken-f-die-verst-weih-bischoefe-domkapitulare-und-domvikare-au
 sgenomm-allerseelen_id1633256
DTSTART;TZID=Europe/Berlin:20261103T070000
DURATION:PT30M
LOCATION:Augsburger Dom Hlgst. Herz Jesu\, Frauentorstraße 1\, 86152 Augsb
 urg-Dom
END:VEVENT
END:VCALENDAR
