BEGIN:VCALENDAR
VERSION:2.0
PRODID:-//Sabre//Sabre VObject 4.5.8//EN
CALSCALE:GREGORIAN
BEGIN:VEVENT
UID:sabre-vobject-27d90269-1e85-4b4f-b402-48771a58404c
DTSTAMP:20260424T235321Z
SUMMARY:Dompredigermesse
DESCRIPTION:https://pfarreien-bistum-augsburg.df-preview.de/dompredigermess
 e_id1633213
DTSTART;TZID=Europe/Berlin:20261004T113000
DURATION:PT30M
LOCATION:Augsburger Dom Hlgst. Herz Jesu\, Frauentorstraße 1\, 86152 Augsb
 urg-Dom
END:VEVENT
END:VCALENDAR
