BEGIN:VCALENDAR
VERSION:2.0
PRODID:-//Sabre//Sabre VObject 4.5.8//EN
CALSCALE:GREGORIAN
BEGIN:VEVENT
UID:sabre-vobject-0f61be81-f992-43ee-b131-1d09b5e632b8
DTSTAMP:20260421T054110Z
SUMMARY:Erste Feierliche Maiandacht
DESCRIPTION:https://pfarreien-bistum-augsburg.df-preview.de/erste-feierlich
 e-maiandacht_id1633204
DTSTART;TZID=Europe/Berlin:20260501T190000
DURATION:PT30M
LOCATION:Augsburger Dom Hlgst. Herz Jesu\, Frauentorstraße 1\, 86152 Augsb
 urg-Dom
END:VEVENT
END:VCALENDAR
