BEGIN:VCALENDAR
VERSION:2.0
PRODID:-//Sabre//Sabre VObject 4.5.8//EN
CALSCALE:GREGORIAN
BEGIN:VEVENT
UID:sabre-vobject-2f6d7bba-6299-4852-935a-726cb3e3006c
DTSTAMP:20260423T031502Z
SUMMARY:Vesper
DESCRIPTION:https://pfarreien-bistum-augsburg.df-preview.de/vesper_id163317
 1
DTSTART;TZID=Europe/Berlin:20270321T170000
DURATION:PT30M
LOCATION:Augsburger Dom Hlgst. Herz Jesu\, Frauentorstraße 1\, 86152 Augsb
 urg-Dom
END:VEVENT
END:VCALENDAR
