BEGIN:VCALENDAR
VERSION:2.0
PRODID:-//Sabre//Sabre VObject 4.5.8//EN
CALSCALE:GREGORIAN
BEGIN:VEVENT
UID:sabre-vobject-4175ce8b-667c-4d0c-a1e8-b92d9a275277
DTSTAMP:20260425T142833Z
SUMMARY:Hl. Messe um geistliche Berufe
DESCRIPTION:https://pfarreien-bistum-augsburg.df-preview.de/hl-messe-um-gei
 stliche-berufe_id1633133
DTSTART;TZID=Europe/Berlin:20261001T093000
DURATION:PT30M
LOCATION:Augsburger Dom Hlgst. Herz Jesu\, Frauentorstraße 1\, 86152 Augsb
 urg-Dom
END:VEVENT
END:VCALENDAR
