BEGIN:VCALENDAR
VERSION:2.0
PRODID:-//Sabre//Sabre VObject 4.5.8//EN
CALSCALE:GREGORIAN
BEGIN:VEVENT
UID:sabre-vobject-4db6467d-a2a9-4cc3-b104-fc2b4b9c726a
DTSTAMP:20260424T152520Z
SUMMARY:Kapitelamt
DESCRIPTION:https://pfarreien-bistum-augsburg.df-preview.de/kapitelamt_id16
 32537
DTSTART;TZID=Europe/Berlin:20270328T090000
DURATION:PT30M
LOCATION:Augsburger Dom Hlgst. Herz Jesu\, Frauentorstraße 1\, 86152 Augsb
 urg-Dom
END:VEVENT
END:VCALENDAR
