BEGIN:VCALENDAR
VERSION:2.0
PRODID:-//Sabre//Sabre VObject 4.5.8//EN
CALSCALE:GREGORIAN
BEGIN:VEVENT
UID:sabre-vobject-fb2081f6-8754-49da-84f6-4b3369ac9cfe
DTSTAMP:20260423T143954Z
SUMMARY:Festgottesdienst mit Bischof Dr. Meier zum 50. Jubiläum der Augsbu
 rger Domsingknaben
DESCRIPTION:https://pfarreien-bistum-augsburg.df-preview.de/festgottesdiens
 t-mit-bischof-dr-meier-zum-50-jubilaeum-der-augsburger-domsingknaben_id163
 2421
DTSTART;TZID=Europe/Berlin:20261031T170000
DURATION:PT30M
LOCATION:Augsburger Dom Hlgst. Herz Jesu\, Frauentorstraße 1\, 86152 Augsb
 urg-Dom
END:VEVENT
END:VCALENDAR
