BEGIN:VCALENDAR
VERSION:2.0
PRODID:-//Sabre//Sabre VObject 4.5.8//EN
CALSCALE:GREGORIAN
BEGIN:VEVENT
UID:sabre-vobject-dc26bed9-c51b-4d31-a249-9c431ccddf0a
DTSTAMP:20260422T172939Z
SUMMARY:Jahresschlussfeier mit Bischof Dr. Bertram Meier
DESCRIPTION:https://pfarreien-bistum-augsburg.df-preview.de/jahresschlussfe
 ier-mit-bischof-dr-bertram-meier_id1632313
DTSTART;TZID=Europe/Berlin:20261231T170000
DURATION:PT30M
LOCATION:Augsburger Dom Hlgst. Herz Jesu\, Frauentorstraße 1\, 86152 Augsb
 urg-Dom
END:VEVENT
END:VCALENDAR
