BEGIN:VCALENDAR
VERSION:2.0
PRODID:-//Sabre//Sabre VObject 4.5.8//EN
CALSCALE:GREGORIAN
BEGIN:VEVENT
UID:sabre-vobject-cdb4903b-6e63-42ae-903b-7bc6847660d0
DTSTAMP:20260422T104043Z
SUMMARY:Bittgang nach Lohwinden\nTreffpunkt an der Staatsstrasse \njedes Ja
 hr am 13. egal welcher Wochentag
DESCRIPTION:https://pfarreien-bistum-augsburg.df-preview.de/bittgang-nach-l
 ohwinden-treffpunkt-an-der-staatsstrasse-jedes-jahr-am-13-egal-welcher-woc
 hentag_id1615428
DTSTART;TZID=Europe/Berlin:20260713T190000
DURATION:PT30M
LOCATION:Verklärung Christi\, Kirchenweg 3\, 85296 Rohrbach
END:VEVENT
END:VCALENDAR
