BEGIN:VCALENDAR
VERSION:2.0
PRODID:-//Sabre//Sabre VObject 4.5.8//EN
CALSCALE:GREGORIAN
BEGIN:VEVENT
UID:sabre-vobject-62d4d5cb-376b-4995-8f71-06aeaad094d3
DTSTAMP:20260424T232952Z
SUMMARY:Heilige Messe - Speisenweihe
DESCRIPTION:https://pfarreien-bistum-augsburg.df-preview.de/heilige-messe-s
 peisenweihe_id1615169
DTSTART;TZID=Europe/Berlin:20260405T100000
DURATION:PT30M
LOCATION:Verklärung Christi\, Kirchenweg 3\, 85296 Rohrbach
END:VEVENT
END:VCALENDAR
