BEGIN:VCALENDAR
VERSION:2.0
PRODID:-//Sabre//Sabre VObject 4.5.8//EN
CALSCALE:GREGORIAN
BEGIN:VEVENT
UID:sabre-vobject-61af39dd-764e-47db-a08e-7302a697ce7a
DTSTAMP:20260422T133621Z
SUMMARY:Heilige Messe ?? streichen??
DESCRIPTION:https://pfarreien-bistum-augsburg.df-preview.de/heilige-messe-s
 treichen_id1615165
DTSTART;TZID=Europe/Berlin:20260412T083000
DURATION:PT30M
LOCATION:St. Stephan
END:VEVENT
END:VCALENDAR
