BEGIN:VCALENDAR
VERSION:2.0
PRODID:-//Sabre//Sabre VObject 4.5.8//EN
CALSCALE:GREGORIAN
BEGIN:VEVENT
UID:sabre-vobject-e28b0031-c3dc-40e1-9651-f6e058e971cb
DTSTAMP:20260422T215755Z
SUMMARY:Feier der Osternacht - Speisenweihe
DESCRIPTION:https://pfarreien-bistum-augsburg.df-preview.de/feier-der-oster
 nacht-speisenweihe_id1615163
DTSTART;TZID=Europe/Berlin:20260404T200000
DURATION:PT30M
LOCATION:St. Stephan
END:VEVENT
END:VCALENDAR
