BEGIN:VCALENDAR
VERSION:2.0
PRODID:-//Sabre//Sabre VObject 4.5.8//EN
CALSCALE:GREGORIAN
BEGIN:VEVENT
UID:sabre-vobject-1b1126bb-3259-40e2-8477-2f5153a81b9d
DTSTAMP:20260423T053142Z
SUMMARY:Heilige Messe
DESCRIPTION:https://pfarreien-bistum-augsburg.df-preview.de/heilige-messe_i
 d1614838
DTSTART;TZID=Europe/Berlin:20260529T190000
DURATION:PT30M
LOCATION:Verklärung Christi\, Kirchenweg 3\, 85296 Rohrbach
END:VEVENT
END:VCALENDAR
