BEGIN:VCALENDAR
VERSION:2.0
PRODID:-//Sabre//Sabre VObject 4.5.8//EN
CALSCALE:GREGORIAN
BEGIN:VEVENT
UID:sabre-vobject-da5f72d0-7561-454b-8dea-2319da61d28b
DTSTAMP:20260424T085302Z
SUMMARY:Heilige Messe
DESCRIPTION:https://pfarreien-bistum-augsburg.df-preview.de/heilige-messe_i
 d1614741
DTSTART;TZID=Europe/Berlin:20260818T190000
DURATION:PT30M
LOCATION:St. Stephan
END:VEVENT
END:VCALENDAR
