BEGIN:VCALENDAR
VERSION:2.0
PRODID:-//Sabre//Sabre VObject 4.5.8//EN
CALSCALE:GREGORIAN
BEGIN:VEVENT
UID:sabre-vobject-5d308dae-d3da-4530-98c0-8f873a4b237e
DTSTAMP:20260422T121314Z
SUMMARY:Heilige Messe
DESCRIPTION:https://pfarreien-bistum-augsburg.df-preview.de/heilige-messe_i
 d1558195
DTSTART;TZID=Europe/Berlin:20261125T160000
DURATION:PT30M
LOCATION:St. Michael
END:VEVENT
END:VCALENDAR
