BEGIN:VCALENDAR
VERSION:2.0
PRODID:-//Sabre//Sabre VObject 4.5.8//EN
CALSCALE:GREGORIAN
BEGIN:VEVENT
UID:sabre-vobject-7a742071-c435-48b7-88e4-0c86adc4031f
DTSTAMP:20260422T161125Z
SUMMARY:Pfarrgottesdienst
DESCRIPTION:https://pfarreien-bistum-augsburg.df-preview.de/pfarrgottesdien
 st_id1558157
DTSTART;TZID=Europe/Berlin:20261025T083000
DURATION:PT30M
LOCATION:St. Michael
END:VEVENT
END:VCALENDAR
